BEGIN:VCALENDAR
VERSION:2.0
PRODID:-//SVP Gerlafingen //NONSGML Events //EN
CALSCALE:GREGORIAN
X-WR-CALNAME:SVP Gerlafingen
BEGIN:VEVENT
CREATED:20231029T084115Z
UID:1023
DTEND:20240815T210000
DTSTART:20240815T200000
DTSTAMP:20260421T011224Z
LOCATION:
DESCRIPTION:
SUMMARY:Sitzung der Parteileitung
ORGANIZER:
URL;VALUE=URI:https://www.svp-gerlafingen.ch/termine/sitzung-der-parteileitung-11/
TRANSP:OPAQUE
END:VEVENT
END:VCALENDAR
