BEGIN:VCALENDAR
VERSION:2.0
PRODID:-//SVP Gerlafingen //NONSGML Events //EN
CALSCALE:GREGORIAN
X-WR-CALNAME:SVP Gerlafingen
BEGIN:VEVENT
CREATED:20241102T165155Z
UID:1115
DTEND:20250518T000000
DTSTART:20250518T000000
DTSTAMP:20260421T090133Z
LOCATION:
DESCRIPTION:
SUMMARY:Volksabstimmung vom 18. Mai 2025
ORGANIZER:
URL;VALUE=URI:https://www.svp-gerlafingen.ch/termine/volksabstimmung-vom-18-mai-2025/
TRANSP:OPAQUE
END:VEVENT
END:VCALENDAR
